BEGIN:VCALENDAR
PRODID:P. E. Schall GmbH &amp; Co. KG
VERSION:2.0
CALSCALE:GREGORIAN
BEGIN:VEVENT
UID:613116ed1de5327c5c12284350f3292c-calID-control@schall-messen.de
ORGANIZER;CN="Fraunhofer IGD":
LOCATION:Halle 7 Stand 7115
SUMMARY:Vollautomatische robotergestützte 3D-Erfassung und Vermessung ohne Teaching
DESCRIPTION:Präsentator Herr Pedro Santos \nhttps://www.control-messe.de/Fachvortrag/4097-vollautomatische-robotergestuetzte-3d-erfassung-und-vermessung-ohne-teaching
CLASS:PUBLIC
TZID:Europe_Central
DTSTART:20250507T134000
DTEND:20250507T142000
DTSTAMP:20260421140016Z
END:VEVENT
END:VCALENDAR