BEGIN:VCALENDAR
PRODID:P. E. Schall GmbH &amp; Co. KG
VERSION:2.0
CALSCALE:GREGORIAN
BEGIN:VEVENT
UID:d7665ce4354a8a8aab22d7121215c6fd-calID-control-expertdays@schall-messen.de
ORGANIZER;CN="ComPro  GmbH":
LOCATION:Expert Stage
SUMMARY:Prüfprozessmanagement gemäß VDA 5 mit Com.IPM
DESCRIPTION:Präsentator Stephan Sprink, General Manager, ComPro GmbH & Dr.-Ing. Edgar Dietrich, Gründer und Anteilseigner\nhttps://www.control-messe.de/control-expertdays/Fachvortrag/4339-pruefprozessmanagement-gemaess-vda-5-mit-com-ipm
CLASS:PUBLIC
TZID:Europe_Central
DTSTART:20260520T100000
DTEND:20260520T102000
DTSTAMP:20260422155344Z
END:VEVENT
END:VCALENDAR