BEGIN:VCALENDAR
PRODID:P. E. Schall GmbH &amp; Co. KG
VERSION:2.0
CALSCALE:GREGORIAN
BEGIN:VEVENT
UID:c058e23aa2af81d61b0d629f8ca0a5c6-calID-control-expertdays@schall-messen.de
ORGANIZER;CN="Modell Aachen GmbH":
LOCATION:Expert Stage
SUMMARY:KI-powered Managementsysteme: spielerisch mehr als 50% Effizienzsteigerung
DESCRIPTION:Präsentator Dr. Carsten Behrens, Geschäftsführer\nhttps://www.control-messe.de/control-expertdays/Fachvortrag/4345-ki-powered-managementsysteme--spielerisch-mehr-als-50%2525-effizienzsteigerung
CLASS:PUBLIC
TZID:Europe_Central
DTSTART:20260521T102500
DTEND:20260521T104500
DTSTAMP:20260422155448Z
END:VEVENT
END:VCALENDAR