BEGIN:VCALENDAR
PRODID:P. E. Schall GmbH &amp; Co. KG
VERSION:2.0
CALSCALE:GREGORIAN
BEGIN:VEVENT
UID:f97d4e102e34b972cca612e1c52d71cd-calID-control-expertdays@schall-messen.de
ORGANIZER;CN="XARION Laser Acoustics GmbH":
LOCATION:Expert Stage
SUMMARY:Laser-Ultraschall zur Inline-Prüfung interner Defekte in der Produktion 
DESCRIPTION:Präsentator Dipl. Ing. Ryan Sommerhuber\nhttps://www.control-messe.de/control-expertdays/Fachvortrag/4349-laser-ultraschall-zur-inline-pruefung-interner-defekte-in-der-produktion
CLASS:PUBLIC
TZID:Europe_Central
DTSTART:20260520T111500
DTEND:20260520T113500
DTSTAMP:20260422155448Z
END:VEVENT
END:VCALENDAR