BEGIN:VCALENDAR
PRODID:P. E. Schall GmbH &amp; Co. KG
VERSION:2.0
CALSCALE:GREGORIAN
BEGIN:VEVENT
UID:68365a253b3b19e5eeec11cab46d5dcf-calID-control-expertdays@schall-messen.de
ORGANIZER;CN="ibg Prüfcomputer GmbH":
LOCATION:Expert Stage
SUMMARY:Eddy Current vs. Nital Etching for Grinder Burn Detection: Insights and ESG Considerations
DESCRIPTION:Präsentator Dipl.-Ing. Bamdad Fallah, Technical Director, ibg Prüfcomputer GmbH\nhttps://www.control-messe.de/control-expertdays/Fachvortrag/4355-eddy-current-vs--nital-etching-for-grinder-burn-detection--insights-and-esg-considerations
CLASS:PUBLIC
TZID:Europe_Central
DTSTART:20260520T105000
DTEND:20260520T111000
DTSTAMP:20260422172312Z
END:VEVENT
END:VCALENDAR