BEGIN:VCALENDAR
PRODID:P. E. Schall GmbH &amp; Co. KG
VERSION:2.0
CALSCALE:GREGORIAN
BEGIN:VEVENT
UID:5473b4169b2b4585c3ae98d3542a76bd-calID-control-expertdays@schall-messen.de
ORGANIZER;CN="Polytec GmbH":
LOCATION:Expert Stage
SUMMARY:Anwendungen der Weißlichtinterferometrie 
DESCRIPTION:Präsentator Sven Kieferle, Technischer Vertrieb, Oberflächenmesstechnik \nhttps://www.control-messe.de/control-expertdays/Fachvortrag/4359-anwendungen-der-weisslichtinterferometrie
CLASS:PUBLIC
TZID:Europe_Central
DTSTART:20260521T144000
DTEND:20260521T150000
DTSTAMP:20260422172303Z
END:VEVENT
END:VCALENDAR