BEGIN:VCALENDAR
PRODID:P. E. Schall GmbH &amp; Co. KG
VERSION:2.0
CALSCALE:GREGORIAN
BEGIN:VEVENT
UID:abc7b9b10f50880ff5acd834b5ebdb0e-calID-control-expertdays@schall-messen.de
ORGANIZER;CN="Visometry GmbH ":
LOCATION:Expert Stage
SUMMARY:Digitale Sichtprüfung mit Twyn: Wie AR und KI die visuelle Qualitätskontrolle optimieren  
DESCRIPTION:Präsentator Dr.-Ing. Folker Wientapper, Gründer und R&D Direktor Visometry \nhttps://www.control-messe.de/control-expertdays/Fachvortrag/4363-digitale-sichtpruefung-mit-twyn--wie-ar-und-ki-die-visuelle-qualitaetskontrolle-optimieren
CLASS:PUBLIC
TZID:Europe_Central
DTSTART:20260521T135000
DTEND:20260521T141000
DTSTAMP:20260422172452Z
END:VEVENT
END:VCALENDAR