BEGIN:VCALENDAR
PRODID:P. E. Schall GmbH &amp; Co. KG
VERSION:2.0
CALSCALE:GREGORIAN
BEGIN:VEVENT
UID:519591cad85dea02e572e7992caaeb9d-calID-control-expertdays@schall-messen.de
ORGANIZER;CN="Böhme & Weihs GmbH":
LOCATION:Expert Stage
SUMMARY: KI als Sparringspartner: Schnellere, sichere QM Entscheidungen mit Fertigungskontext
DESCRIPTION:Präsentator Jörg von Ploetz / CEO Böhme & Weihs\nhttps://www.control-messe.de/control-expertdays/Fachvortrag/4377--ki-als-sparringspartner--schnellere--sichere-qm-entscheidungen-mit-fertigungskontext
CLASS:PUBLIC
TZID:Europe_Central
DTSTART:20260521T114000
DTEND:20260521T120000
DTSTAMP:20260422155110Z
END:VEVENT
END:VCALENDAR