BEGIN:VCALENDAR
PRODID:P. E. Schall GmbH &amp; Co. KG
VERSION:2.0
CALSCALE:GREGORIAN
BEGIN:VEVENT
UID:ecbe7207ca8be78483c6c5d1a9360991-calID-control-expertdays@schall-messen.de
ORGANIZER;CN="cluetec GmbH":
LOCATION:Expert Stage
SUMMARY:Kärcher Process Audits weltweit: Standardisierung, Rollout und KI-Nutzung
DESCRIPTION:Präsentator Mark König & Philipp Stransky, Alfred Kärcher SE & Co. KG\nhttps://www.control-messe.de/control-expertdays/Fachvortrag/4379-kaercher-process-audits-weltweit--standardisierung--rollout-und-ki-nutzung
CLASS:PUBLIC
TZID:Europe_Central
DTSTART:20260521T130000
DTEND:20260521T132000
DTSTAMP:20260422155049Z
END:VEVENT
END:VCALENDAR