BEGIN:VCALENDAR
PRODID:P. E. Schall GmbH &amp; Co. KG
VERSION:2.0
CALSCALE:GREGORIAN
BEGIN:VEVENT
UID:ecd701fde877cb96ae0aaedfd7906152-calID-control-expertdays@schall-messen.de
ORGANIZER;CN="ADDITIVE Soft- und Hardware für":
LOCATION:Expert Stage
SUMMARY:Clevere Datenanalyse spart >1m3 Chemikalien pro Woche. Entdecken Sie die Hintergründe!
DESCRIPTION:Präsentator Dipl.-Phys. Daniel Fügner, Produktmanager & Coach\nhttps://www.control-messe.de/control-expertdays/Fachvortrag/4399-clevere-datenanalyse-spart-%253E1m3-chemikalien-pro-woche--entdecken-sie-die-hintergruende
CLASS:PUBLIC
TZID:Europe_Central
DTSTART:20260520T102500
DTEND:20260520T104500
DTSTAMP:20260422155052Z
END:VEVENT
END:VCALENDAR