BEGIN:VCALENDAR
PRODID:P. E. Schall GmbH &amp; Co. KG
VERSION:2.0
CALSCALE:GREGORIAN
BEGIN:VEVENT
UID:e0e89ce67080e7355d7503f236e8dcf6-calID-control-expertdays@schall-messen.de
ORGANIZER;CN="Babtec":
LOCATION:Expert Stage
SUMMARY:Meet Quorix – wenn KI im Reklamationsmanagement mitdenkt
DESCRIPTION:Präsentator Daniel von Sondern\nhttps://www.control-messe.de/control-expertdays/Fachvortrag/4401-meet-quorix-%25E2%2580%2593-wenn-ki-im-reklamationsmanagement-mitdenkt
CLASS:PUBLIC
TZID:Europe_Central
DTSTART:20260521T105000
DTEND:20260521T111000
DTSTAMP:20260422155103Z
END:VEVENT
END:VCALENDAR