BEGIN:VCALENDAR
PRODID:P. E. Schall GmbH &amp; Co. KG
VERSION:2.0
CALSCALE:GREGORIAN
BEGIN:VEVENT
UID:a1df4d2760b1437ae8908ba49cb97bae-calID-control-expertdays@schall-messen.de
ORGANIZER;CN="Pro-K Prüftechnik GmbH ":
LOCATION:Expert Stage
SUMMARY:Härteprüfmaschinen - warum immer neu, wieso nicht mit modernisierten Systemen
DESCRIPTION:Präsentator Herr Arnold Horsch\nhttps://www.control-messe.de/control-expertdays/Fachvortrag/4403-haertepruefmaschinen---warum-immer-neu--wieso-nicht-mit-modernisierten-systemen
CLASS:PUBLIC
TZID:Europe_Central
DTSTART:20260520T132500
DTEND:20260520T134500
DTSTAMP:20260422172845Z
END:VEVENT
END:VCALENDAR