BEGIN:VCALENDAR
PRODID:P. E. Schall GmbH &amp; Co. KG
VERSION:2.0
CALSCALE:GREGORIAN
BEGIN:VEVENT
UID:339112d94fff5a5834467409d451231b-calID-control-expertdays@schall-messen.de
ORGANIZER;CN="Werth Messtechnik GmbH":
LOCATION:Expert Stage
SUMMARY:Prozesssicherheit und Rückführbarkeit statt halluzinierende KI-Auswertungen
DESCRIPTION:Präsentator Dr. Raoul Christoph\nhttps://www.control-messe.de/control-expertdays/Fachvortrag/4407-prozesssicherheit-und-rueckfuehrbarkeit-statt-halluzinierende-ki-auswertungen
CLASS:PUBLIC
TZID:Europe_Central
DTSTART:20260521T093000
DTEND:20260521T095000
DTSTAMP:20260422155212Z
END:VEVENT
END:VCALENDAR