BEGIN:VCALENDAR
PRODID:P. E. Schall GmbH &amp; Co. KG
VERSION:2.0
CALSCALE:GREGORIAN
BEGIN:VEVENT
UID:a7ac6ab521b2cc595e8adb96f581b57a-calID-control-expertdays@schall-messen.de
ORGANIZER;CN="CAQ AG Factory Systems":
LOCATION:Expert Stage
SUMMARY:CAQ.Net embedded AI – Integrierte KI-Assistenten für strategisches QM und operative QS
DESCRIPTION:Präsentator Sascha Herrmann, Head of Sales, CAQ AG Factory Systems\nhttps://www.control-messe.de/control-expertdays/Fachvortrag/4409-caq-net-embedded-ai-%25E2%2580%2593-integrierte-ki-assistenten-fuer-strategisches-qm-und-operative-qs
CLASS:PUBLIC
TZID:Europe_Central
DTSTART:20260521T120000
DTEND:20260521T122000
DTSTAMP:20260422155059Z
END:VEVENT
END:VCALENDAR