BEGIN:VCALENDAR
PRODID:P. E. Schall GmbH &amp; Co. KG
VERSION:2.0
CALSCALE:GREGORIAN
BEGIN:VEVENT
UID:20882adab9ef4b35fd2d99c3d8c89366-calID-control-expertdays@schall-messen.de
ORGANIZER;CN="Aptean Germany GmbH":
LOCATION:Expert Stage
SUMMARY:End-2-End-Digitalisierung & AI-Power im QM: Prozesse, Qualität, Wissen auf einer Plattform
DESCRIPTION:Präsentator Ismail Söyleyici, Senior Account Executive sycat IMS GmbH\nhttps://www.control-messe.de/control-expertdays/Fachvortrag/4411-end-2-end-digitalisierung-%2526-ai-power-im-qm--prozesse--qualitaet--wissen-auf-einer-plattform
CLASS:PUBLIC
TZID:Europe_Central
DTSTART:20260520T135000
DTEND:20260520T141000
DTSTAMP:20260422172850Z
END:VEVENT
END:VCALENDAR