BEGIN:VCALENDAR
PRODID:P. E. Schall GmbH &amp; Co. KG
VERSION:2.0
CALSCALE:GREGORIAN
BEGIN:VEVENT
UID:4ff4e8c8ecc4a5208472ee8eeee6b413-calID-control-expertdays@schall-messen.de
ORGANIZER;CN="MiViA GmbH":
LOCATION:Halle 9 - Stand 9411
SUMMARY:Potenziale von MiViA: Anwendung und Mehrwert von KI-Lösungen im Überblick
DESCRIPTION:Präsentator Jessica Schneider\nhttps://www.control-messe.de/control-expertdays/Fachvortrag/4419-potenziale-von-mivia--anwendung-und-mehrwert-von-ki-loesungen-im-%25C3%259Cberblick
CLASS:PUBLIC
TZID:Europe_Central
DTSTART:20260520T130000
DTEND:20260520T133000
DTSTAMP:20260422155211Z
END:VEVENT
END:VCALENDAR