BEGIN:VCALENDAR
PRODID:P. E. Schall GmbH &amp; Co. KG
VERSION:2.0
CALSCALE:GREGORIAN
BEGIN:VEVENT
UID:664b68aa67e0c971e1ea5b2543da65fd-calID-control-expertdays@schall-messen.de
ORGANIZER;CN="nextAudit GmbH":
LOCATION:Expert Stage
SUMMARY:KI als Gamechanger im Managementsystem: Von generativer KI bis KI-Agenten im Auditkontext 
DESCRIPTION:Presenter Alexander Stoffers, CEO und Founder nextAudit GmbH \nhttps://www.control-messe.de/control-expertdays/en/Lecture/4343-ki-als-gamechanger-im-managementsystem--von-generativer-ki-bis-ki-agenten-im-auditkontext
CLASS:PUBLIC
TZID:Europe_Central
DTSTART:20260521T111500
DTEND:20260521T113500
DTSTAMP:20260422191057Z
END:VEVENT
END:VCALENDAR