BEGIN:VCALENDAR
PRODID:P. E. Schall GmbH &amp; Co. KG
VERSION:2.0
CALSCALE:GREGORIAN
BEGIN:VEVENT
UID:38d8612d35ab4ad04af69dfb8539cdaf-calID-control-expertdays@schall-messen.de
ORGANIZER;CN="VOSS Automotive GmbH":
LOCATION:Expert Stage
SUMMARY:Wenn Daten verschmelzen: Sensorfusion im Wearable ClickID für smarte Qualitätskontrolle 
DESCRIPTION:Presenter Justus Benning, KI Experte bei VOSS Automotive\nhttps://www.control-messe.de/control-expertdays/en/Lecture/4347-wenn-daten-verschmelzen--sensorfusion-im-wearable-clickid-fuer-smarte-qualitaetskontrolle
CLASS:PUBLIC
TZID:Europe_Central
DTSTART:20260521T132500
DTEND:20260521T134500
DTSTAMP:20260422154906Z
END:VEVENT
END:VCALENDAR