BEGIN:VCALENDAR
PRODID:P. E. Schall GmbH &amp; Co. KG
VERSION:2.0
CALSCALE:GREGORIAN
BEGIN:VEVENT
UID:ff383d9e055c6bfcf34a29df72e4ea12-calID-control-expertdays@schall-messen.de
ORGANIZER;CN="Fabasoft Approve GmbH":
LOCATION:Expert Stage
SUMMARY:Qualität neu gedacht: Integrierte Managementsysteme in der Praxis 
DESCRIPTION:Presenter Andreas Dangl, Geschäftsführer der Fabasoft Approve GmbH\nhttps://www.control-messe.de/control-expertdays/en/Lecture/4351-qualitaet-neu-gedacht--integrierte-managementsysteme-in-der-praxis
CLASS:PUBLIC
TZID:Europe_Central
DTSTART:20260521T141500
DTEND:20260521T143500
DTSTAMP:20260422154749Z
END:VEVENT
END:VCALENDAR