BEGIN:VCALENDAR
PRODID:P. E. Schall GmbH &amp; Co. KG
VERSION:2.0
CALSCALE:GREGORIAN
BEGIN:VEVENT
UID:5dd02152f5abbf1b203a95c24f3dd9e5-calID-control-expertdays@schall-messen.de
ORGANIZER;CN="ibg Prüfcomputer GmbH":
LOCATION:Expert Stage
SUMMARY:Künstliche Intelligenz als Schlüsseltechnologie der modernen Wirbelstromprüfung
DESCRIPTION:Presenter Dipl.-Ing. (FH) Jaroslaw Litau, Head of Application Development\nhttps://www.control-messe.de/control-expertdays/en/Lecture/4353-kuenstliche-intelligenz-als-schluesseltechnologie-der-modernen-wirbelstrompruefung
CLASS:PUBLIC
TZID:Europe_Central
DTSTART:20260521T100000
DTEND:20260521T102000
DTSTAMP:20260422154805Z
END:VEVENT
END:VCALENDAR