BEGIN:VCALENDAR
PRODID:P. E. Schall GmbH &amp; Co. KG
VERSION:2.0
CALSCALE:GREGORIAN
BEGIN:VEVENT
UID:1e26e3de3fd0823f2b15c1acf029cd24-calID-control-expertdays@schall-messen.de
ORGANIZER;CN="Aptean Germany GmbH":
LOCATION:Expert Stage
SUMMARY:Erstellung einer Reklamation aus einer Kunden-E-Mail mit Hilfe der KI 
DESCRIPTION:Presenter Arno Schlingermann,  Senior Solutions Consultant Sales \nhttps://www.control-messe.de/control-expertdays/en/Lecture/4357-erstellung-einer-reklamation-aus-einer-kunden-e-mail-mit-hilfe-der-ki
CLASS:PUBLIC
TZID:Europe_Central
DTSTART:20260520T114000
DTEND:20260520T120000
DTSTAMP:20260422154749Z
END:VEVENT
END:VCALENDAR