BEGIN:VCALENDAR
PRODID:P. E. Schall GmbH &amp; Co. KG
VERSION:2.0
CALSCALE:GREGORIAN
BEGIN:VEVENT
UID:499542f61122a0638537d5c757f8b931-calID-control-expertdays@schall-messen.de
ORGANIZER;CN="ADDITIVE Soft- und Hardware für":
LOCATION:Expert Stage
SUMMARY:Smart data analysis saves over 1m³ of chemicals per week. Discover how!
DESCRIPTION:Presenter Dipl.-Phys. Daniel Fügner, Produktmanager & Coach\nhttps://www.control-messe.de/control-expertdays/en/Lecture/4399-smart-data-analysis-saves-over-1m%25C2%25B3-of-chemicals-per-week--discover-how
CLASS:PUBLIC
TZID:Europe_Central
DTSTART:20260520T102500
DTEND:20260520T104500
DTSTAMP:20260422154310Z
END:VEVENT
END:VCALENDAR