BEGIN:VCALENDAR
PRODID:P. E. Schall GmbH &amp; Co. KG
VERSION:2.0
CALSCALE:GREGORIAN
BEGIN:VEVENT
UID:a1aa07d89c449f5c747e58dfb1e4b69d-calID-control-expertdays@schall-messen.de
ORGANIZER;CN="Pro-K Prüftechnik GmbH ":
LOCATION:Expert Stage
SUMMARY:Hardness testing machines - why always new, why not with modernized systems
DESCRIPTION:Presenter Herr Arnold Horsch\nhttps://www.control-messe.de/control-expertdays/en/Lecture/4403-hardness-testing-machines---why-always-new--why-not-with-modernized-systems
CLASS:PUBLIC
TZID:Europe_Central
DTSTART:20260520T132500
DTEND:20260520T134500
DTSTAMP:20260422154143Z
END:VEVENT
END:VCALENDAR