BEGIN:VCALENDAR
PRODID:P. E. Schall GmbH &amp; Co. KG
VERSION:2.0
CALSCALE:GREGORIAN
BEGIN:VEVENT
UID:dfbec085410eb5131a3280ba3d41c19d-calID-control-expertdays@schall-messen.de
ORGANIZER;CN="Werth Messtechnik GmbH":
LOCATION:Expert Stage
SUMMARY:Messen für nachhaltige Mobilität mit CT und Multisensorik von Werth
DESCRIPTION:Presenter Tristan Schubert\nhttps://www.control-messe.de/control-expertdays/en/Lecture/4405-messen-fuer-nachhaltige-mobilitaet-mit-ct-und-multisensorik-von-werth
CLASS:PUBLIC
TZID:Europe_Central
DTSTART:20260520T130000
DTEND:20260520T132000
DTSTAMP:20260422154337Z
END:VEVENT
END:VCALENDAR