BEGIN:VCALENDAR
PRODID:P. E. Schall GmbH &amp; Co. KG
VERSION:2.0
CALSCALE:GREGORIAN
BEGIN:VEVENT
UID:b3ad85356018966d5e7c3b3903c28847-calID-control-expertdays@schall-messen.de
ORGANIZER;CN="MiViA GmbH":
LOCATION:Hall 9 - Booth 9411
SUMMARY:The Potential of MiViA: An Overview of the Applications and Benefits of AI Solutions
DESCRIPTION:Presenter Jessica Schneider\nhttps://www.control-messe.de/control-expertdays/en/Lecture/4419-the-potential-of-mivia--an-overview-of-the-applications-and-benefits-of-ai-solutions
CLASS:PUBLIC
TZID:Europe_Central
DTSTART:20260520T130000
DTEND:20260520T133000
DTSTAMP:20260422154334Z
END:VEVENT
END:VCALENDAR