BEGIN:VCALENDAR
PRODID:P. E. Schall GmbH &amp; Co. KG
VERSION:2.0
CALSCALE:GREGORIAN
BEGIN:VEVENT
UID:f7edbcb6f64cfedfcc594f395c5aef49-calID-control-expertdays@schall-messen.de
ORGANIZER;CN="P. E. Schall GmbH & Co. KG":
URL;VALUE=URI:https://www.control-messe.de/control-expertdays/standanmeldung/en/
LOCATION:Messe Stuttgart
SUMMARY:Control-Expert Days
DESCRIPTION:The exclusive expert meeting for industrial quality assurance
CLASS:PUBLIC
TZID:Europe_Central
DTSTART:20260520T000000
DTEND:20260521T160000
DTSTAMP:20260422142411Z
END:VEVENT
END:VCALENDAR